BEGIN:VCALENDAR
VERSION:2.0
PRODID:-//ExpressionEngine Easy iCalendar plugin//NONSGML v2.0.1//EN
X-WR-TIMEZONE:America/New_York
X-WR-CALNAME:Upcoming Auctions
BEGIN:VEVENT
UID:96443
DTSTAMP:20230220T204400
DTSTART:20230220T204400
DTEND:20230228T200000
SUMMARY:Feb 28 Orrville Athletics Cake Auction
LOCATION:{location}
DESCRIPTION:Feb 28 Orrville Athletics Cake Auction
URL:https://www.buckeyeauctiongroup.com/auctions/detail/bw96443
SEQUENCE:1
END:VEVENT
END:VCALENDAR